Workbook

Sheet Quot
B1: =Data!C2 -> ОПРОСНЫЙ ЛИСТ
B3: =Data!C3 -> Дата: | V3: =Data!C4 -> Язык: | Z3: Ru | AC3: =Data!C5 -> Номер опросного листа:
B4: =Data!C6 -> Данные заказчика
B5: =Data!C7 -> Заказчик: | I5: RU
I6: EN
B7: =Data!C8 -> Юридический адрес: | I7: RU
I8: EN
B9: =Data!C9 -> Почтовый адрес: | I9: RU
I10: EN
B11: =Data!C10 -> Контактное лицо: | I11: RU | AC11: =Data!C12 -> Телефон рабочий:
I12: EN | AC12: =Data!C13 -> Телефон мобильный:
B13: =Data!C11 -> Должность: | I13: RU | AC13: =Data!C14 -> Электронная почта:
I14: EN | AC14: =Data!C15 -> Примечание:
B16: =Data!C15 -> Примечание:
B17: 1 | C17: =Data!C16 -> Наши инженеры-технологи хотели бы предложить решения, которые прослужат весь срок службы всех скважин на месторождении
B18: 2 | C18: =Data!C17 -> Формат Опросного Листа предусматривает "Минимальные" и "Дополнительные" данные по скважинам. Мы сможем предложить лучшее решение при предоставлении максимального набора данных.
B21: =Data!C18 -> Минимальные данные для заказа | Y21: =Data!C47 -> Механические требования
B22: =Data!C19 -> Данные процесса | AI22: =Data!C48 -> DN | AM22: =Data!C49 -> PN | AQ22: =Data!C50 -> Тип
B23: =Data!C20 -> Параметр | H23: =Data!C21 -> Ед. изм. | L23: =Data!C22 -> Мин. | P23: =Data!C23 -> Ном. | T23: =Data!C24 -> Макс. | Y23: =Data!C51 -> Впускная труба
B24: =Data!C25 -> Раб. Давление | Y24: =Data!C52 -> Выпускная труба
H25: MPa(a) | L25: =IFERROR(_xlfn.IFS(L24="","",$H$24="MPa(a)",L24,$H$24="MPa(g)",L24+0.1,$H$24="KPa(a)",(L24*0.001),$H$24="KPa(g)",(L24*0.001)+0.1,$H$24="bar(a)",(L24*0.1),$H$24="bar(g)",(L24*0.1)+0.1,$H$24="psi(a)",(L24*0.0068947573),$H$24="psi(g)",(L24*0.0068947573)+0.1),"") | P25: =IFERROR(_xlfn.IFS(P24="","",$H$24="MPa(a)",P24,$H$24="MPa(g)",P24+0.1,$H$24="KPa(a)",(P24*0.001),$H$24="KPa(g)",(P24*0.001)+0.1,$H$24="bar(a)",(P24*0.1),$H$24="bar(g)",(P24*0.1)+0.1,$H$24="psi(a)",(P24*0.0068947573),$H$24="psi(g)",(P24*0.0068947573)+0.1),"") | T25: =IFERROR(_xlfn.IFS(T24="","",$H$24="MPa(a)",T24,$H$24="MPa(g)",T24+0.1,$H$24="KPa(a)",(T24*0.001),$H$24="KPa(g)",(T24*0.001)+0.1,$H$24="bar(a)",(T24*0.1),$H$24="bar(g)",(T24*0.1)+0.1,$H$24="psi(a)",(T24*0.0068947573),$H$24="psi(g)",(T24*0.0068947573)+0.1),"") | Y25: =Data!C53 -> Укажите все требуемые дополнительные стандарты:
B26: =Data!C26 -> Раб. Температура
H27: °K | L27: =IFERROR(_xlfn.IFS($H$26="°C",L26+273.15,$H$26="°F",(L26+459.67)*5/9,$H$26="°K",L26,"",""),"") | P27: =IFERROR(_xlfn.IFS($H$26="°C",P26+273.15,$H$26="°F",(P26+459.67)*5/9,$H$26="°K",P26),"") | T27: =IFERROR(_xlfn.IFS($H$26="°C",T26+273.15,$H$26="°F",(T26+459.67)*5/9,$H$26="°K",T26),"")
B28: =Data!C27 -> Общ. Жидкость
H29: m3/d | L29: =IFERROR(_xlfn.IFS($H$28="","",$H$28="m3/d",L28,$H$28="m3/h",L28*24,$H$28="bbl/d",L28*0.158987,$H$28="bbl/h",L28*24*0.158987),"") | P29: =IFERROR(_xlfn.IFS($H$28="","",$H$28="m3/d",P28,$H$28="m3/h",P28*24,$H$28="bbl/d",P28*0.158987,$H$28="bbl/h",P28*24*0.158987),"") | T29: =IFERROR(_xlfn.IFS($H$28="","",$H$28="m3/d",T28,$H$28="m3/h",T28*24,$H$28="bbl/d",T28*0.158987,$H$28="bbl/h",T28*24*0.158987),"")
B30: =Data!C28 -> Обводненность | H30: %
B31: =Data!C29 -> Газ
B33: =Data!C30 -> ИЛИ | D33: =Data!C31 -> GOR при макс. расходе нефти
D34: =Data!C32 -> GOR при мин. расходе нефти | Y34: =Data!C68 -> Предпочтительные материалы для смачиваемых деталей:
B35: =Data!C33 -> ИЛИ | D35: =Data!C34 -> GLR при макс. расходе нефти
D36: =Data!C35 -> GLR при мин. расходе нефти
B38: =Data!C36 -> Свойства жидкости
B39: =Data!C37 -> Удельный вес нефти
B40: =Data!C38 -> Удельный вес воды
B41: =Data!C39 -> Плотность газа
B42: =Data!C40 -> Вязкость нефти при 3 различных температурах
B43: =Data!C41 -> Температура | Y43: =Data!C54 -> Требования к передаче данных:
B44: =Data!C42 -> Вязкость
B45: =Data!C43 -> H2S
B46: =Data!C44 -> CO2
...

Sheet Data
A1: # | B1: Значение | C1: Value | D1: Ru | E1: En
A2: 1 | C2: =IFERROR(_xlfn.IFS(Quot!$Z$3="Ru",Data!D2,Quot!$Z$3="En",Data!E2),"") -> ОПРОСНЫЙ ЛИСТ | D2: ОПРОСНЫЙ ЛИСТ | E2: QUOTATION
A3: 2 | C3: =IFERROR(_xlfn.IFS(Quot!$Z$3="Ru",Data!D3,Quot!$Z$3="En",Data!E3),"") -> Дата: | D3: Дата: | E3: Date:
A4: 3 | C4: =IFERROR(_xlfn.IFS(Quot!$Z$3="Ru",Data!D4,Quot!$Z$3="En",Data!E4),"") -> Язык: | D4: Язык: | E4: Language:
A5: 4 | C5: =IFERROR(_xlfn.IFS(Quot!$Z$3="Ru",Data!D5,Quot!$Z$3="En",Data!E5),"") -> Номер опросного листа: | D5: Номер опросного листа: | E5: Number of the Quotation:
A6: 5 | C6: =IFERROR(_xlfn.IFS(Quot!$Z$3="Ru",Data!D6,Quot!$Z$3="En",Data!E6),"") -> Данные заказчика | D6: Данные заказчика | E6: Customer Data
A7: 6 | C7: =IFERROR(_xlfn.IFS(Quot!$Z$3="Ru",Data!D7,Quot!$Z$3="En",Data!E7),"") -> Заказчик: | D7: Заказчик: | E7: Customer:
A8: 7 | C8: =IFERROR(_xlfn.IFS(Quot!$Z$3="Ru",Data!D8,Quot!$Z$3="En",Data!E8),"") -> Юридический адрес: | D8: Юридический адрес: | E8: Legal Address:
A9: 8 | C9: =IFERROR(_xlfn.IFS(Quot!$Z$3="Ru",Data!D9,Quot!$Z$3="En",Data!E9),"") -> Почтовый адрес: | D9: Почтовый адрес: | E9: Maling Adress:
A10: 9 | C10: =IFERROR(_xlfn.IFS(Quot!$Z$3="Ru",Data!D10,Quot!$Z$3="En",Data!E10),"") -> Контактное лицо: | D10: Контактное лицо: | E10: Contact:
A11: 10 | C11: =IFERROR(_xlfn.IFS(Quot!$Z$3="Ru",Data!D11,Quot!$Z$3="En",Data!E11),"") -> Должность: | D11: Должность: | E11: Position:
A12: 11 | C12: =IFERROR(_xlfn.IFS(Quot!$Z$3="Ru",Data!D12,Quot!$Z$3="En",Data!E12),"") -> Телефон рабочий: | D12: Телефон рабочий: | E12: Working phone:
A13: 12 | C13: =IFERROR(_xlfn.IFS(Quot!$Z$3="Ru",Data!D13,Quot!$Z$3="En",Data!E13),"") -> Телефон мобильный: | D13: Телефон мобильный: | E13: Mobile phone:
... A24: 23 | C24: =IFERROR(_xlfn.IFS(Quot!$Z$3="Ru",Data!D24,Quot!$Z$3="En",Data!E24),"") -> Макс. | D24: Макс. | E24: Max.
A25: 24 | C25: =IFERROR(_xlfn.IFS(Quot!$Z$3="Ru",Data!D25,Quot!$Z$3="En",Data!E25),"") -> Раб. Давление | D25: Раб. Давление | E25: Op. pressure | F25: bar(a) | G25: bar(g) | H25: psi(a) | I25: psi(g) | J25: KPa(a) | K25: KPa(g) | L25: MPa(a) | M25: MPa(g)
A26: 25 | C26: =IFERROR(_xlfn.IFS(Quot!$Z$3="Ru",Data!D26,Quot!$Z$3="En",Data!E26),"") -> Раб. Температура | D26: Раб. Температура | E26: Op. temp. | F26: °C | G26: °K | H26: °F
A27: 26 | C27: =IFERROR(_xlfn.IFS(Quot!$Z$3="Ru",Data!D27,Quot!$Z$3="En",Data!E27),"") -> Общ. Жидкость | D27: Общ. Жидкость | E27: Gross liquid | F27: m3/d | G27: m3/h | H27: bbl/d | I27: bbl/h
A28: 27 | C28: =IFERROR(_xlfn.IFS(Quot!$Z$3="Ru",Data!D28,Quot!$Z$3="En",Data!E28),"") -> Обводненность | D28: Обводненность | E28: Watercut
A29: 28 | C29: =IFERROR(_xlfn.IFS(Quot!$Z$3="Ru",Data!D29,Quot!$Z$3="En",Data!E29),"") -> Газ | D29: Газ | E29: Gas
A30: 29 | C30: =IFERROR(_xlfn.IFS(Quot!$Z$3="Ru",Data!D30,Quot!$Z$3="En",Data!E30),"") -> ИЛИ | D30: ИЛИ | E30: or
A31: 30 | C31: =IFERROR(_xlfn.IFS(Quot!$Z$3="Ru",Data!D31,Quot!$Z$3="En",Data!E31),"") -> GOR при макс. расходе нефти | D31: GOR при макс. расходе нефти | E31: GOR at max oil flow
A32: 31 | C32: =IFERROR(_xlfn.IFS(Quot!$Z$3="Ru",Data!D32,Quot!$Z$3="En",Data!E32),"") -> GOR при мин. расходе нефти | D32: GOR при мин. расходе нефти | E32: GOR at min oil flow
A33: 32 | C33: =IFERROR(_xlfn.IFS(Quot!$Z$3="Ru",Data!D33,Quot!$Z$3="En",Data!E33),"") -> ИЛИ | D33: ИЛИ | E33: or
A34: 33 | C34: =IFERROR(_xlfn.IFS(Quot!$Z$3="Ru",Data!D34,Quot!$Z$3="En",Data!E34),"") -> GLR при макс. расходе нефти | D34: GLR при макс. расходе нефти | E34: GLR at max oil flow
A35: 34 | C35: =IFERROR(_xlfn.IFS(Quot!$Z$3="Ru",Data!D35,Quot!$Z$3="En",Data!E35),"") -> GLR при мин. расходе нефти | D35: GLR при мин. расходе нефти | E35: GLR at min oil flow
A36: 35 | C36: =IFERROR(_xlfn.IFS(Quot!$Z$3="Ru",Data!D36,Quot!$Z$3="En",Data!E36),"") -> Свойства жидкости | D36: Свойства жидкости | E36: Fluid properties
A37: 36 | C37: =IFERROR(_xlfn.IFS(Quot!$Z$3="Ru",Data!D37,Quot!$Z$3="En",Data!E37),"") -> Удельный вес нефти | D37: Удельный вес нефти | E37: Oil specific gravity
A38: 37 | C38: =IFERROR(_xlfn.IFS(Quot!$Z$3="Ru",Data!D38,Quot!$Z$3="En",Data!E38),"") -> Удельный вес воды | D38: Удельный вес воды | E38: Water specific gravity
A39: 38 | C39: =IFERROR(_xlfn.IFS(Quot!$Z$3="Ru",Data!D39,Quot!$Z$3="En",Data!E39),"") -> Плотность газа | D39: Плотность газа | E39: Gas densities
... A70: 69 | C70: =IFERROR(_xlfn.IFS(Quot!$Z$3="Ru",Data!D70,Quot!$Z$3="En",Data!E70),"") -> Сроки предъявления требования: | D70: Сроки предъявления требования: | E70: Timing of requirement:
C71: =IFERROR(_xlfn.IFS(Quot!$Z$3="Ru",Data!D71,Quot!$Z$3="En",Data!E71),"") -> Период. (цикличность) экспл. скважины | D71: Период. (цикличность) экспл. скважины | E71: Frequency (cyclicity) of well operation | F71: + | G71: -
C72: =IFERROR(_xlfn.IFS(Quot!$Z$3="Ru",Data!D72,Quot!$Z$3="En",Data!E72),"") -> Трубопроводные работы | D72: Трубопроводные работы | E72: Pipe work | F72: + | G72: -
C73: =IFERROR(_xlfn.IFS(Quot!$Z$3="Ru",Data!D73,Quot!$Z$3="En",Data!E73),"") -> Гидратная тренировка | D73: Гидратная тренировка | E73: Hydrate formation | F73: + | G73: -
C74: =IFERROR(_xlfn.IFS(Quot!$Z$3="Ru",Data!D74,Quot!$Z$3="En",Data!E74),"") -> Газлифт | D74: Газлифт | E74: Gas lift | F74: + | G74: -
C75: =IFERROR(_xlfn.IFS(Quot!$Z$3="Ru",Data!D75,Quot!$Z$3="En",Data!E75),"") -> Повышение давления в пласте | D75: Повышение давления в пласте | E75: Reservoir repressuring | F75: + | G75: -
C76: =IFERROR(_xlfn.IFS(Quot!$Z$3="Ru",Data!D76,Quot!$Z$3="En",Data!E76),"") -> Стимуляция паром | D76: Стимуляция паром | E76: Vapor stimulation | F76: + | G76: -
C77: =IFERROR(_xlfn.IFS(Quot!$Z$3="Ru",Data!D77,Quot!$Z$3="En",Data!E77),"") -> Скважина после гидроразрыва пласта | D77: Скважина после гидроразрыва пласта | E77: Well after hydraulic fracturing | F77: + | G77: -
C78: =IFERROR(_xlfn.IFS(Quot!$Z$3="Ru",Data!D78,Quot!$Z$3="En",Data!E78),"") -> Потеря/затвердевание парафинов | D78: Потеря/затвердевание парафинов | E78: Loss/hardening of paraffins | F78: + | G78: -
C79: =IFERROR(_xlfn.IFS(Quot!$Z$3="Ru",Data!D79,Quot!$Z$3="En",Data!E79),"") -> Примечание: | D79: Примечание: | E79: Notes
